BEGIN:VCALENDAR
VERSION:2.0
PRODID:-//JRC Mountain Club - ECPv6.15.13.1//NONSGML v1.0//EN
CALSCALE:GREGORIAN
METHOD:PUBLISH
X-WR-CALNAME:JRC Mountain Club
X-ORIGINAL-URL:https://jrcmountainclub.eu
X-WR-CALDESC:Events for JRC Mountain Club
REFRESH-INTERVAL;VALUE=DURATION:PT1H
X-Robots-Tag:noindex
X-PUBLISHED-TTL:PT1H
BEGIN:VTIMEZONE
TZID:Europe/Rome
BEGIN:DAYLIGHT
TZOFFSETFROM:+0100
TZOFFSETTO:+0200
TZNAME:CEST
DTSTART:20240331T010000
END:DAYLIGHT
BEGIN:STANDARD
TZOFFSETFROM:+0200
TZOFFSETTO:+0100
TZNAME:CET
DTSTART:20241027T010000
END:STANDARD
BEGIN:DAYLIGHT
TZOFFSETFROM:+0100
TZOFFSETTO:+0200
TZNAME:CEST
DTSTART:20250330T010000
END:DAYLIGHT
BEGIN:STANDARD
TZOFFSETFROM:+0200
TZOFFSETTO:+0100
TZNAME:CET
DTSTART:20251026T010000
END:STANDARD
BEGIN:DAYLIGHT
TZOFFSETFROM:+0100
TZOFFSETTO:+0200
TZNAME:CEST
DTSTART:20260329T010000
END:DAYLIGHT
BEGIN:STANDARD
TZOFFSETFROM:+0200
TZOFFSETTO:+0100
TZNAME:CET
DTSTART:20261025T010000
END:STANDARD
END:VTIMEZONE
BEGIN:VEVENT
DTSTART;VALUE=DATE:20251130
DTEND;VALUE=DATE:20251201
DTSTAMP:20260421T001710
CREATED:20250922T193101Z
LAST-MODIFIED:20250923T070019Z
UID:3758-1764460800-1764547199@jrcmountainclub.eu
SUMMARY:Snow safety – practical snow rescue day
DESCRIPTION:When: 30 November (in case of lack of snow\, it will be postponed to 14 Dec)\nWhere: TBD based on snow conditions\nDuration: 1 day\nGroup size: TBD\nExperience required: TBD\nCost estimate: TBD\nActivity type: guided\n\nInterested in joining? Please email the event organiser to secure your spot!
URL:https://jrcmountainclub.eu/event/sicurezza-sulla-neve-practical-snow-rescue-day/
CATEGORIES:Alpinism,Guided
ORGANIZER;CN="Pietro":MAILTO:pietro.toniato@gmail.com
END:VEVENT
END:VCALENDAR