BEGIN:VCALENDAR
VERSION:2.0
PRODID:-//JRC Mountain Club - ECPv6.15.13.1//NONSGML v1.0//EN
CALSCALE:GREGORIAN
METHOD:PUBLISH
X-WR-CALNAME:JRC Mountain Club
X-ORIGINAL-URL:https://jrcmountainclub.eu
X-WR-CALDESC:Events for JRC Mountain Club
REFRESH-INTERVAL;VALUE=DURATION:PT1H
X-Robots-Tag:noindex
X-PUBLISHED-TTL:PT1H
BEGIN:VTIMEZONE
TZID:Europe/Rome
BEGIN:DAYLIGHT
TZOFFSETFROM:+0100
TZOFFSETTO:+0200
TZNAME:CEST
DTSTART:20240331T010000
END:DAYLIGHT
BEGIN:STANDARD
TZOFFSETFROM:+0200
TZOFFSETTO:+0100
TZNAME:CET
DTSTART:20241027T010000
END:STANDARD
BEGIN:DAYLIGHT
TZOFFSETFROM:+0100
TZOFFSETTO:+0200
TZNAME:CEST
DTSTART:20250330T010000
END:DAYLIGHT
BEGIN:STANDARD
TZOFFSETFROM:+0200
TZOFFSETTO:+0100
TZNAME:CET
DTSTART:20251026T010000
END:STANDARD
BEGIN:DAYLIGHT
TZOFFSETFROM:+0100
TZOFFSETTO:+0200
TZNAME:CEST
DTSTART:20260329T010000
END:DAYLIGHT
BEGIN:STANDARD
TZOFFSETFROM:+0200
TZOFFSETTO:+0100
TZNAME:CET
DTSTART:20261025T010000
END:STANDARD
END:VTIMEZONE
BEGIN:VEVENT
DTSTART;VALUE=DATE:20251019
DTEND;VALUE=DATE:20251020
DTSTAMP:20260421T020516
CREATED:20250922T191012Z
LAST-MODIFIED:20250923T064919Z
UID:3736-1760832000-1760918399@jrcmountainclub.eu
SUMMARY:Controvento trekking - Miniera d’oro del Taglione
DESCRIPTION:Enjoy a full-day guided trek from Viganella to the Miniera d’oro del Taglione\, including a tour inside the mine. \n\nWhen: 19 October\nWhere: Valle Antrona\nDuration: 1 day\nGroup size: 10-30\nExperience required: none\nCost estimate: TBD\nActivity type: guided\nGuide: Controvento Trekking\n\nInterested in joining? Please email the event organiser to secure your spot!
URL:https://jrcmountainclub.eu/event/controvento-trekking-miniera-doro-del-taglione/
LOCATION:viganella\, Viganella 28841 Province of Verbano-Cusio-Ossola\, Italy
CATEGORIES:Guided,Hiking
ORGANIZER;CN="Olga excursions":MAILTO:jac.excursions@gmail.com
END:VEVENT
END:VCALENDAR