BEGIN:VCALENDAR
VERSION:2.0
PRODID:-//JRC Mountain Club - ECPv6.15.13.1//NONSGML v1.0//EN
CALSCALE:GREGORIAN
METHOD:PUBLISH
X-WR-CALNAME:JRC Mountain Club
X-ORIGINAL-URL:https://jrcmountainclub.eu
X-WR-CALDESC:Events for JRC Mountain Club
REFRESH-INTERVAL;VALUE=DURATION:PT1H
X-Robots-Tag:noindex
X-PUBLISHED-TTL:PT1H
BEGIN:VTIMEZONE
TZID:Europe/Rome
BEGIN:DAYLIGHT
TZOFFSETFROM:+0100
TZOFFSETTO:+0200
TZNAME:CEST
DTSTART:20240331T010000
END:DAYLIGHT
BEGIN:STANDARD
TZOFFSETFROM:+0200
TZOFFSETTO:+0100
TZNAME:CET
DTSTART:20241027T010000
END:STANDARD
BEGIN:DAYLIGHT
TZOFFSETFROM:+0100
TZOFFSETTO:+0200
TZNAME:CEST
DTSTART:20250330T010000
END:DAYLIGHT
BEGIN:STANDARD
TZOFFSETFROM:+0200
TZOFFSETTO:+0100
TZNAME:CET
DTSTART:20251026T010000
END:STANDARD
BEGIN:DAYLIGHT
TZOFFSETFROM:+0100
TZOFFSETTO:+0200
TZNAME:CEST
DTSTART:20260329T010000
END:DAYLIGHT
BEGIN:STANDARD
TZOFFSETFROM:+0200
TZOFFSETTO:+0100
TZNAME:CET
DTSTART:20261025T010000
END:STANDARD
BEGIN:DAYLIGHT
TZOFFSETFROM:+0100
TZOFFSETTO:+0200
TZNAME:CEST
DTSTART:20270328T010000
END:DAYLIGHT
BEGIN:STANDARD
TZOFFSETFROM:+0200
TZOFFSETTO:+0100
TZNAME:CET
DTSTART:20271031T010000
END:STANDARD
END:VTIMEZONE
BEGIN:VEVENT
DTSTART;VALUE=DATE:20251011
DTEND;VALUE=DATE:20251214
DTSTAMP:20260420T215315
CREATED:20250922T192734Z
LAST-MODIFIED:20250923T065725Z
UID:3748-1760140800-1765670399@jrcmountainclub.eu
SUMMARY:Indoor climbing course for families
DESCRIPTION:An introductory climbing course for families with Ikigai climbing \n\nWhen: Saturday afternoons (14.30-16.30) of 11-18 October\, 8-15-22-29 November\, 6-13 December\nWhere: Ikigai climbing gym\nDuration: 8 days\nGroup size: 10\nExperience required: none\nCost estimate: TBD\nActivity type: guided\nGuide: Ikigai climbing\n\nInterested in joining? Please email the event organiser to secure your spot!
URL:https://jrcmountainclub.eu/event/indoor-climbing-course-for-families/
LOCATION:Ikigai gym\, Via Carlo Juker\, 14\, 20025 Legnano MI
CATEGORIES:Climbing,Guided
ORGANIZER;CN="Olga excursions":MAILTO:jac.excursions@gmail.com
END:VEVENT
BEGIN:VEVENT
DTSTART;VALUE=DATE:20251214
DTEND;VALUE=DATE:20251215
DTSTAMP:20260420T215315
CREATED:20250922T192946Z
LAST-MODIFIED:20250923T065858Z
UID:3756-1765670400-1765756799@jrcmountainclub.eu
SUMMARY:Controvento trekking - Valle dei Mulini e cave di Molera
DESCRIPTION:Celebrate a magical Christmas in the enchanting Valle dei Mulini\, nestled between Varese and Como. This special day will take you on a journey through history\, where ancient mills\, tunnels\, and quarries tell the stories of hard-working men and forgotten craftsmanship. \n\nWhen: 14 December\nWhere: Domodossola\nDuration: 1 day\nGroup size: TBD\nExperience required: none\nCost estimate: TBD\nActivity type: guided\nGuide: Controvento Trekking\n\nInterested in joining? Please email the event organiser to secure your spot!
URL:https://jrcmountainclub.eu/event/controvento-trekking-valle-dei-mulini-e-le-cave-di-molera/
LOCATION:Malnate\, Malnate 21046 VA
CATEGORIES:Guided,Hiking
ORGANIZER;CN="Lia":MAILTO:jac.excursions@gmail.com
END:VEVENT
BEGIN:VEVENT
DTSTART;TZID=Europe/Rome:20260110T080000
DTEND;TZID=Europe/Rome:20260110T170000
DTSTAMP:20260420T215315
CREATED:20260106T162424Z
LAST-MODIFIED:20260106T162915Z
UID:3882-1768032000-1768064400@jrcmountainclub.eu
SUMMARY:Avalanche rescue
DESCRIPTION:Use of avalanche rescue kit (ARTVA\, shovel\, probe)\, basics on assessing snow conditions.\n\n\nWhen: 10 January\nWhere: TBD\nDuration: 1 day\nGroup size: 3-5\nExperience required: none\nCost estimate: TBD\nActivity type: guided\nGuide: Proup\n\nInterested in joining? Please email the event organiser to secure your spot!
URL:https://jrcmountainclub.eu/event/3882/
CATEGORIES:Alpinism,Guided
ORGANIZER;CN="Sara":MAILTO:sara.totaro@gmail.com
END:VEVENT
BEGIN:VEVENT
DTSTART;TZID=Europe/Rome:20260118T080000
DTEND;TZID=Europe/Rome:20260118T170000
DTSTAMP:20260420T215315
CREATED:20260106T162641Z
LAST-MODIFIED:20260106T162837Z
UID:3886-1768723200-1768755600@jrcmountainclub.eu
SUMMARY:Ice climbing trial
DESCRIPTION:Ice climbing – day trial. We will go to an ‘ice crag’ where we will try ice climbing\n\n\n\nWhen: 18 January\nWhere: TBD\nDuration: 1 day\nGroup size: 3-5\nExperience required: none\nCost estimate: 90 -120 € depending on the number of participants. Travel expenses and other costs (e.g. cable cars if needed) will be shared among participants.\nActivity type: guided\nGuide: Proup\n\nInterested in joining? Please email the event organiser to secure your spot!
URL:https://jrcmountainclub.eu/event/ice-climbing-trial/
CATEGORIES:Alpinism,Guided
ORGANIZER;CN="Sara":MAILTO:sara.totaro@gmail.com
END:VEVENT
BEGIN:VEVENT
DTSTART;TZID=Europe/Rome:20260124T080000
DTEND;TZID=Europe/Rome:20260124T170000
DTSTAMP:20260420T215315
CREATED:20260106T163106Z
LAST-MODIFIED:20260106T163106Z
UID:3891-1769241600-1769274000@jrcmountainclub.eu
SUMMARY:Skialp trial
DESCRIPTION:Curious about ski mountaineering? Do you want to try skiing in an uncontaminated (maybe?!) environment with soft powder snow (hopefully)? This is for you!!! We propose a ski mountaineering day trial.\n\n\n\nWhen: 24 January\nWhere: TBD\nDuration: 1 day\nGroup size: 3-5\nExperience required: good skiing technique (ideally you should be able to ski comfortably on red slopes)\nCost estimate: 90 -120 € depending on the number of participants.\nActivity type: guided\nGuide: Proup\n\nInterested in joining? Please email the event organiser to secure your spot!
URL:https://jrcmountainclub.eu/event/skialp-trial/
CATEGORIES:Alpinism,Guided
ORGANIZER;CN="Sara":MAILTO:sara.totaro@gmail.com
END:VEVENT
BEGIN:VEVENT
DTSTART;TZID=Europe/Rome:20260201T080000
DTEND;TZID=Europe/Rome:20260201T170000
DTSTAMP:20260420T215315
CREATED:20260106T163745Z
LAST-MODIFIED:20260106T163745Z
UID:3895-1769932800-1769965200@jrcmountainclub.eu
SUMMARY:Controvento trekking – Ecosistema delle marcite
DESCRIPTION:Discover the marcite around the Parco Ticino.\n\n\nWhen: 1 February\nWhere: Parco Ticino\nDuration: 1 day\nGroup size: max 30\nExperience required: none.\nCost estimate: TBD\nActivity type: guided\nGuide: Controvento\n\nInterested in joining? Please email the event organiser to secure your spot!
URL:https://jrcmountainclub.eu/event/controvento-trekking-ecosistema-delle-marcite/
CATEGORIES:Guided,Hiking
ORGANIZER;CN="Lia":MAILTO:jac.excursions@gmail.com
END:VEVENT
BEGIN:VEVENT
DTSTART;TZID=Europe/Rome:20260214T080000
DTEND;TZID=Europe/Rome:20260222T170000
DTSTAMP:20260420T215315
CREATED:20260106T164017Z
LAST-MODIFIED:20260106T164017Z
UID:3897-1771056000-1771779600@jrcmountainclub.eu
SUMMARY:Alpinismo invernale
DESCRIPTION:Winter basic alpinism course\, including safety maneuvers\, rocky progression/crests and progression in snowy conditions.\n\n\nWhen: 14-15\, 22 February\nWhere: TBD\nDuration: 3 days\nGroup size: 3-5\nExperience required: none.\nCost estimate: between 260-360 € per participant depending on the number of participants.\nActivity type: guided\nGuide: Proup\n\nInterested in joining? Please email the event organiser to secure your spot!
URL:https://jrcmountainclub.eu/event/alpinismo-invernale/
CATEGORIES:Alpinism,Guided
ORGANIZER;CN="Sara":MAILTO:sara.totaro@gmail.com
END:VEVENT
BEGIN:VEVENT
DTSTART;TZID=Europe/Rome:20260221T080000
DTEND;TZID=Europe/Rome:20260221T170000
DTSTAMP:20260420T215315
CREATED:20260106T164056Z
LAST-MODIFIED:20260211T155300Z
UID:3899-1771660800-1771693200@jrcmountainclub.eu
SUMMARY:Ciaspolata
DESCRIPTION:Ciaspolata con David Canil \n\n\nWhen: 21 February\nWhere: Options include Rifugio Miryam (Val Vannino)\, La Piana Craveggia (Val Vigezzo)\, Peccia (Val Vogna)\, Val d’Otro (Valseasia)\, or Etroubles (Val d’Aosta)\nDuration: 1 day\nGroup size: 10-12\nExperience required: none\nCost estimate: 25€ + rental of equipment (ARTVA\, snowshoes – as needed).\nActivity type: guided\nGuide: Proup (Davide Canil)\n\nInterested in joining? Please email the event organiser to secure your spot!
URL:https://jrcmountainclub.eu/event/ciaspolata-21feb/
CATEGORIES:Guided,Hiking
ORGANIZER;CN="Olga":MAILTO:olga.vigiak@gmail.com
END:VEVENT
BEGIN:VEVENT
DTSTART;TZID=Europe/Rome:20260221T080000
DTEND;TZID=Europe/Rome:20260301T170000
DTSTAMP:20260420T215315
CREATED:20260106T164357Z
LAST-MODIFIED:20260106T164357Z
UID:3902-1771660800-1772384400@jrcmountainclub.eu
SUMMARY:Alpinismo invernale advanced
DESCRIPTION:Winter alpinism – intermediate to advanced day\n\n\nWhen: 21 February\nWhere: TBD\nGroup size: 3-5\nExperience required: basic winter alpinism skills taught in the basic winter alpinism course (safety maneuvers\, progression in rocky and snowy terrain).\nCost estimate: TBD\nActivity type: guided\nGuide: Proup\n\nInterested in joining? Please email the event organiser to secure your spot!
URL:https://jrcmountainclub.eu/event/alpinismo-invernale-advanced/
CATEGORIES:Alpinism,Guided
ORGANIZER;CN="Sara":MAILTO:sara.totaro@gmail.com
END:VEVENT
BEGIN:VEVENT
DTSTART;TZID=Europe/Rome:20260308T080000
DTEND;TZID=Europe/Rome:20260308T170000
DTSTAMP:20260420T215315
CREATED:20260106T163249Z
LAST-MODIFIED:20260211T142906Z
UID:3893-1772956800-1772989200@jrcmountainclub.eu
SUMMARY:Ciaspolata
DESCRIPTION:Ciaspolata con Davide Canil \n\n\nWhen: 8 Marzo\nWhere: Options include Rifugio Miryam (Val Vannino)\, La Piana Craveggia (Val Vigezzo)\, Peccia (Val Vogna)\, Val d’Otro (Valseasia)\, or Etroubles (Val d’Aosta)\nDuration: 1 day\nGroup size: 10-12\nExperience required: none\nCost estimate: 25€ + rental of equipment (ARTVA\, snowshoes – as needed).\nActivity type: guided\nGuide: Proup (Davide Canil)\n\nInterested in joining? Please email the event organiser to secure your spot!
URL:https://jrcmountainclub.eu/event/ciaspolata-8mar/
CATEGORIES:Guided,Hiking
ORGANIZER;CN="Esther":MAILTO:esthersanye@gmail.com
END:VEVENT
BEGIN:VEVENT
DTSTART;TZID=Europe/Rome:20260318T183000
DTEND;TZID=Europe/Rome:20260318T183000
DTSTAMP:20260420T215315
CREATED:20260309T111444Z
LAST-MODIFIED:20260309T111444Z
UID:3992-1773858600-1773858600@jrcmountainclub.eu
SUMMARY:Presentation: Arquata del Tronto
DESCRIPTION:Evening dedicated to Arquata del Tronto \n\nWhen: Wednesday 18 March 2026\, 6:30 PM\nWhere: Club House Auditorium\nActivity type: presentation\nPresenter: Monica Piergiovanni\, President of the Arquata Potest volunteer association\nContent:\n\nArquata del Tronto region;\nArquata Potest volunteer association and their works;\nExcursion guide book: Arquata del Tronto: sentieri\, tradizioni\, piatti tipici per la rinascita del territorio.\n\n\n\nJoin us to discover this beautiful corner of Italy!
URL:https://jrcmountainclub.eu/event/presentation-arquata-del-tronto/
END:VEVENT
BEGIN:VEVENT
DTSTART;VALUE=DATE:20260510
DTEND;VALUE=DATE:20260525
DTSTAMP:20260420T215315
CREATED:20260330T161014Z
LAST-MODIFIED:20260330T161014Z
UID:4005-1778371200-1779667199@jrcmountainclub.eu
SUMMARY:Introduction to outdoor climbing course
DESCRIPTION:The course covers safe use of equipment and climbing progression techniques. This is an introduction level course\, no experience is required\, but having done some indoor climbing can help progress fast. The course is suitable for adults as well as minors\, who however must be accompanied by a responsible adult. Depending on group skills and motivation\, by the end of the 4 days participants can open (lead) easy routes and be able to climb independently.\n\n\n\n\nThe Alpine Guides can provide all equipment. The ratio guide:participants is 1:4.\n\n\n\nDates are May 10\, 17\, 23 and 24 (sometimes weather conditions the guide may decide to change the date – please keep 30 and 31 May as potential recovery days\, or even replacing an outdoor day with an indoor gym one).  These are full days spent at the climbing site. Generally we go to nearby climbing sites (Sangiano\, Maccagno\, Mergozzo\, ecc)\, however sometimes weather may require going further (e.g. Quincinetto\, Lecco) – usually carpooling can be organized within the group.\n\n\nParticipation is open to JAC 2026 members.  The course will be confirmed as soon as we reach a minimum number of participants. Registrations close on April 24th
URL:https://jrcmountainclub.eu/event/introduction-to-outdoor-climbing-course/
CATEGORIES:Climbing,Guided
ORGANIZER;CN="Olga":MAILTO:olga.vigiak@gmail.com
END:VEVENT
END:VCALENDAR